Workbook

Sheet Input
A1: Esempio applicativo - Nuovo par. 3.3-bis All. 4/2 (Metodo accelerato FCDE)
A3: Parametri (celle gialle modificabili)
A4: Anno rendiconto che accerta il miglioramento (X) | B4: 2025
A5: Metodo di calcolo capacità di riscossione usato dall'ente | B5: A - solo incassi competenza
A6: Metodo di calcolo capacità di riscossione usato dall'ente | B6: B - incassi competenza + incassi a residui
A7: Progetto triennale di accelerazione formalmente attivato? | B7: SI
A8: Prima applicazione metodo accelerato | B8: BP 2027-2029
A9: Rendiconto 2027 conferma miglioramento? (serve per BP 2029-2031) | B9: SI
A10: Rendiconto 2028 conferma miglioramento? (serve per BP 2030-2032) | B10: SI
A12: Dati di rendiconto per una singola tipologia di entrata (esempio)
A14: Esercizio | B14: Accertamenti (A) | C14: Incassi c/competenza (I) | D14: Incassi anno+1 c/residui anno (R) | E14: Capacità A: I/A | F14: Capacità B: (I+R_next)/A | G14: Note | H14: Accertamenti previsione (BP)
A15: 2021 | B15: 950000 | C15: 618000 | D15: 45000 | E15: =C15/B15 -> 0.65052632 | F15: =(C15+D15)/B15 -> 0.69789474
A16: 2022 | B16: 980000 | C16: 647000 | D16: 42000 | E16: =C16/B16 -> 0.66020408 | F16: =(C16+D16)/B16 -> 0.70306122
A17: 2023 | B17: 1000000 | C17: 650000 | D17: 40000 | E17: =C17/B17 -> 0.65 | F17: =(C17+D17)/B17 -> 0.69
A18: 2024 | B18: 1050000 | C18: 735000 | D18: 40000 | E18: =C18/B18 -> 0.7 | F18: =(C18+D18)/B18 -> 0.73809524
A19: 2025 | B19: 1100000 | C19: 935000 | D19: 30000 | E19: =C19/B19 -> 0.85 | F19: =(C19+D19)/B19 -> 0.87727273
A20: 2026 | B20: 1120000 | C20: 952000 | D20: 25000 | E20: =C20/B20 -> 0.85 | F20: =(C20+D20)/B20 -> 0.87232143 | H20: 1130000
A21: 2027 | B21: 1150000 | C21: 990000 | D21: 20000 | E21: =C21/B21 -> 0.86086957 | F21: =(C21+D21)/B21 -> 0.87826087 | H21: 1160000
A22: 2028 | B22: 1180000 | C22: 1030000 | D22: 0 | E22: =C22/B22 -> 0.87288136 | F22: =(C22+D22)/B22 -> 0.87288136 | H22: 1190000

Sheet Metodo A
A1: Calcoli automatici (metodo accelerato e verifiche ammissibilità)
A3: Parametri (da Input)
A4: Anno X (rendiconto miglioramento) | B4: =Input!B4 -> 2025 | D4: Anno prima applicazione (BP) | E4: =IF($B$7="Assestamento BP 2026-2028",2026,IF($B$7="BP 2027-2029",2027,IF($B$7="BP 2028-2030",2028,IF($B$7="BP 2029-2031",2029,"")))) -> 2027
A5: Metodo capacità selezionato | B5: =Input!B5 -> A - solo incassi competenza | D5: Anno base capacità (Y) | E5: =B25 -> 2025
A6: Progetto triennale attivato? | B6: =Input!B7 -> SI | D6: Applicabile accelerato? | E6: =B32 -> SI
A7: Prima applicazione | B7: =Input!B8 -> BP 2027-2029 | E7: 2027 | F7: 2028 (base 2022/2026) | G7: 2029 (base 2023/2027)
A8: Conferma miglioramento (rendiconto 2027)? | B8: =Input!B9 -> SI | D8: % FCDE ordinario (base 5 anni: 2021/2022/2023/2024/2025) | E8: =1-(B15+B16+B17+B18+B19)/5 -> 0.29785392 | F8: =1-(B16+B17+B18+B19+B20)/5 -> 0.25795918 | G8: =1-(B17+B18+B19+B20+B21)/5 -> 0.21782609
A9: Conferma miglioramento (rendiconto 2028)? | B9: =Input!B10 -> SI
A12: Tabelle di supporto
A14: Esercizio | B14: Capacità selezionata | C14: Capacità A | D14: Capacità B
A15: 2021 | B15: 0.65052632 | C15: =Input!E15 -> 0.65052632 | D15: =Input!F15 -> 0.69789474
A16: 2022 | B16: 0.66020408 | C16: =Input!E16 -> 0.66020408 | D16: =Input!F16 -> 0.70306122
A17: 2023 | B17: 0.65 | C17: =Input!E17 -> 0.65 | D17: =Input!F17 -> 0.69
A18: 2024 | B18: 0.7 | C18: =Input!E18 -> 0.7 | D18: =Input!F18 -> 0.73809524
A19: 2025 | B19: 0.85 | C19: =Input!E19 -> 0.85 | D19: =Input!F19 -> 0.87727273
A20: 2026 | B20: 0.85 | C20: =Input!E20 -> 0.85 | D20: =Input!F20 -> 0.87232143
A21: 2027 | B21: 0.86086957 | C21: =Input!E21 -> 0.86086957 | D21: =Input!F21 -> 0.87826087
A22: 2028 | B22: 0.87288136 | C22: =Input!E22 -> 0.87288136 | D22: =Input!F22 -> 0.87288136
A24: Verifica miglioramento capacità di riscossione (Metodo A)
A25: Anno da confrontare (Y) primo metodo | B25: =IF(LEFT($B$5,1)="A",$B$4,$B$4-1) -> 2025
A26: Media triennio di riferimento (2023/2024/2025) | B26: =(B17+B18+B19)/3 -> 0.73333333
A27: Capacità anno 2027 | B27: =B19 -> 0.85
A28: Miglioramento verificato? (Y > media triennio) | B28: =IF($B$27>$B$26,"SI","NO") -> SI
A30: Progetto triennale attivato? (condizione 2) | B30: =IF($B$6="SI","SI","NO") -> SI
A31: Prima applicazione ammessa? (finestre 2026-2029) | B31: =IF(OR($B$7="Assestamento BP 2026-2028",$B$7="BP 2027-2029",$B$7="BP 2028-2030",$B$7="BP 2029-2031"),"SI","NO") -> SI
A32: Esito: applicabile metodo accelerato? | B32: =IF(AND($B$28="SI",$B$30="SI",$B$31="SI"),"SI","NO") -> SI
A34: Determinazione % FCDE - Metodo accelerato (output)
A36: Bilancio di previsione | B36: Anno BP | C36: % FCDE accelerato | D36: Base calcolo (capacità/medie) | E36: Note | F36: % FCDE ordinario (5 anni) | G36: Accertamenti previsione | H36: FCDE € (accelerato) A | I36: FCDE € (ordinario) B | J36: Differenza B-A
A37: BP 2026-2028 | B37: 2026 | C37: =IF(OR($E$4="",2026<$E$4,NOT($E$6="SI")), "",IF((2026-$E$4+1)=1, 1-VLOOKUP($E$5,$A$15:$B$22,2,FALSE),IF((2026-$E$4+1)=2, 1-AVERAGE(VLOOKUP($E$5,$A$15:$B$22,2,FALSE),VLOOKUP($E$5+1,$A$15:$B$22,2,FALSE)),IF((2026-$E$4+1)=3, IF($B$8="SI", 1-AVERAGE(VLOOKUP($E$5,$A$15:$B$22,2,FALSE),VLOOKUP($E$5+1,$A$15:$B$22,2,FALSE),VLOOKUP($E$5+2,$A$15:$B$22,2,FALSE)), ""),IF((2026-$E$4+1)=4, IF(AND($B$8="SI",$B$9="SI"), 1-AVERAGE(VLOOKUP($E$5,$A$15:$B$22,2,FALSE),VLOOKUP($E$5+1,$A$15:$B$22,2,FALSE),VLOOKUP($E$5+2,$A$15:$B$22,2,FALSE),VLOOKUP($E$5+3,$A$15:$B$22,2,FALSE)), ""),""))))) | D37: =IF(C37="","",IF((2026-$E$4+1)=1,"1 - capacità "&$E$5,IF((2026-$E$4+1)=2,"1 - media capacità "&$E$5&"-"&($E$5+1),IF((2026-$E$4+1)=3,"1 - media capacità "&$E$5&"-"&($E$5+2),IF((2026-$E$4+1)=4,"1 - media capacità "&$E$5&"-"&($E$5+3),"" ))))) | E37: =IF(AND(2026>=$E$4,(2026-$E$4+1)>=3,OR($B$8="SI"=FALSE,AND((2026-$E$4+1)=4,$B$9="SI"=FALSE))),"Se verifica miglioramento negativa: torna ordinario (e rideterminazione in assestamento)","") | G37: =Input!H20 -> 1130000 | H37: =IF(OR(C37="",G37=""),"",G37*C37) | I37: =IF(OR(D37="",H37=""),"",H37*D37) | J37: =IF(OR(E37="",I37=""),"",I37*E37)
A38: BP 2027-2029 | B38: 2027 | C38: =1-B27 -> 0.15 | D38: 1- capacità 2025 | E38: =IF(AND(2027>=$E$4,(2027-$E$4+1)>=3,OR($B$8="SI"=FALSE,AND((2027-$E$4+1)=4,$B$9="SI"=FALSE))),"Se verifica miglioramento negativa: torna ordinario (e rideterminazione in assestamento)","") | F38: =E8 -> 0.29785392 | G38: =Input!H21 -> 1160000 | H38: =IF(OR(C38="",G38=""),"",G38*C38) -> 174000 | I38: =G38*F38 -> 345510.55 | J38: =I38-H38 -> 171510.55
A39: BP 2028-2030 | B39: 2028 | C39: =1-(B19+B20)/2 -> 0.15 | D39: 1 - media capacità 2025-2026 | E39: =IF(AND(2028>=$E$4,(2028-$E$4+1)>=3,OR($B$8="SI"=FALSE,AND((2028-$E$4+1)=4,$B$9="SI"=FALSE))),"Se verifica miglioramento negativa: torna ordinario (e rideterminazione in assestamento)","") | F39: =F8 -> 0.25795918 | G39: =Input!H22 -> 1190000 | H39: =G39*C39 -> 178500 | I39: =G39*F39 -> 306971.43 | J39: =I39-H39 -> 128471.43
A40: BP 2029-2031 | B40: 2029 | C40: =1-(B19+B20+B21)/3 -> 0.14637681 | D40: 1 - media capacità 2025-2027 | F40: =G8 -> 0.21782609 | G40: 1210000 | H40: =G40*C40 -> 177115.94 | I40: =G40*F40 -> 263569.57 | J40: =I40-H40 -> 86453.623
A41: BP 2030-2032 | B41: 2030 | C41: =1-(B19+B20+B21+B22)/4 -> 0.14156227 | D41: 1 - media capacità 2025-2028 | G41: =IFERROR(VLOOKUP(2030,Input!A15:H22,8,FALSE),"")
A42: BP 2031-2033 | B42: 2031 | D42: =IF(C42="","",IF((2031-$E$4+1)=1,"1 - capacità "&$E$5,IF((2031-$E$4+1)=2,"1 - media capacità "&$E$5&"-"&($E$5+1),IF((2031-$E$4+1)=3,"1 - media capacità "&$E$5&"-"&($E$5+2),IF((2031-$E$4+1)=4,"1 - media capacità "&$E$5&"-"&($E$5+3),"" ))))) | E42: =IF(AND(2031>=$E$4,(2031-$E$4+1)>=3,OR($B$8="SI"=FALSE,AND((2031-$E$4+1)=4,$B$9="SI"=FALSE))),"Se verifica miglioramento negativa: torna ordinario (e rideterminazione in assestamento)","") | G42: =IFERROR(VLOOKUP(2031,Input!A15:H22,8,FALSE),"")
A43: BP 2032-2034 | B43: 2032 | D43: =IF(C43="","",IF((2032-$E$4+1)=1,"1 - capacità "&$E$5,IF((2032-$E$4+1)=2,"1 - media capacità "&$E$5&"-"&($E$5+1),IF((2032-$E$4+1)=3,"1 - media capacità "&$E$5&"-"&($E$5+2),IF((2032-$E$4+1)=4,"1 - media capacità "&$E$5&"-"&($E$5+3),"" ))))) | E43: =IF(AND(2032>=$E$4,(2032-$E$4+1)>=3,OR($B$8="SI"=FALSE,AND((2032-$E$4+1)=4,$B$9="SI"=FALSE))),"Se verifica miglioramento negativa: torna ordinario (e rideterminazione in assestamento)","") | G43: =IFERROR(VLOOKUP(2032,Input!A15:H22,8,FALSE),"")

Sheet Metodo B
A1: Calcoli automatici (metodo accelerato e verifiche ammissibilità)
A3: Parametri (da Input)
A4: Anno X (rendiconto miglioramento) | B4: 2025 | D4: Anno prima applicazione (BP) | E4: =IF($B$7="Assestamento BP 2026-2028",2026,IF($B$7="BP 2027-2029",2027,IF($B$7="BP 2028-2030",2028,IF($B$7="BP 2029-2031",2029,"")))) -> 2027
A5: Metodo capacità selezionato | B5: B - incassi in c/competenza es. 2024 + incassi es. 2024 in c/residui es. 2025 | D5: Anno base capacità (Y) | E5: =B25 -> 2024
A6: Progetto triennale attivato? | B6: =Input!B7 -> SI | D6: Applicabile accelerato? | E6: =B32 -> SI
A7: Prima applicazione | B7: =Input!B8 -> BP 2027-2029 | E7: 2027 | F7: 2028 (base 2022/2026) | G7: 2029 (base 2023/2027)
A8: Conferma miglioramento (rendiconto 2027)? | B8: =Input!B9 -> SI | D8: % FCDE ordinario (base 5 anni: 2021/2022/2023/2024/2025) | E8: =1-(B15+B16+B17+B18+B19)/5 -> 0.25873521 | F8: =1-(B16+B17+B18+B19+B20)/5 -> 0.22384988 | G8: =1-(B17+B18+B19+B20+B21)/5 -> 0.18880995
A9: Conferma miglioramento (rendiconto 2028)? | B9: =Input!B10 -> SI
A12: Tabelle di supporto
A14: Esercizio | B14: Capacità selezionata | C14: Capacità A | D14: Capacità B
A15: 2021 | B15: 0.69789474 | C15: =Input!E15 -> 0.65052632 | D15: =Input!F15 -> 0.69789474
A16: 2022 | B16: 0.70306122 | C16: =Input!E16 -> 0.66020408 | D16: =Input!F16 -> 0.70306122
A17: 2023 | B17: 0.69 | C17: =Input!E17 -> 0.65 | D17: =Input!F17 -> 0.69
A18: 2024 | B18: 0.73809524 | C18: =Input!E18 -> 0.7 | D18: =Input!F18 -> 0.73809524
A19: 2025 | B19: 0.87727273 | C19: =Input!E19 -> 0.85 | D19: =Input!F19 -> 0.87727273
A20: 2026 | B20: 0.87232143 | C20: =Input!E20 -> 0.85 | D20: =Input!F20 -> 0.87232143
A21: 2027 | B21: 0.87826087 | C21: =Input!E21 -> 0.86086957 | D21: =Input!F21 -> 0.87826087
A22: 2028 | B22: 0.87288136 | C22: =Input!E22 -> 0.87288136 | D22: =Input!F22 -> 0.87288136
A24: Verifica miglioramento capacità di riscossione (Metodo B)
A25: Anno da confrontare (Y) secondo metodo | B25: =IF(LEFT($B$5,1)="A",$B$4,$B$4-1) -> 2024
A26: Media triennio di riferimento (2022/2023/2024) | B26: =(B16+B17+B18)/3 -> 0.71038549
A27: Capacità anno 2027 | B27: =B18 -> 0.73809524
A28: Miglioramento verificato? (Y > media triennio) | B28: =IF($B$27>$B$26,"SI","NO") -> SI
A30: Progetto triennale attivato? (condizione 2) | B30: =IF($B$6="SI","SI","NO") -> SI
A31: Prima applicazione ammessa? (finestre 2026-2029) | B31: =IF(OR($B$7="Assestamento BP 2026-2028",$B$7="BP 2027-2029",$B$7="BP 2028-2030",$B$7="BP 2029-2031"),"SI","NO") -> SI
A32: Esito: applicabile metodo accelerato? | B32: =IF(AND($B$28="SI",$B$30="SI",$B$31="SI"),"SI","NO") -> SI
A34: Determinazione % FCDE - Metodo accelerato (output)
A36: Bilancio di previsione | B36: Anno BP | C36: % FCDE accelerato | D36: Base calcolo (capacità/medie) | E36: Note | F36: % FCDE ordinario (5 anni) | G36: Accertamenti previsione | H36: FCDE € (accelerato) A | I36: FCDE € (ordinario) B | J36: Differenza B-A
A37: BP 2026-2028 | B37: 2026 | C37: =IF(OR($E$4="",2026<$E$4,NOT($E$6="SI")), "",IF((2026-$E$4+1)=1, 1-VLOOKUP($E$5,$A$15:$B$22,2,FALSE),IF((2026-$E$4+1)=2, 1-AVERAGE(VLOOKUP($E$5,$A$15:$B$22,2,FALSE),VLOOKUP($E$5+1,$A$15:$B$22,2,FALSE)),IF((2026-$E$4+1)=3, IF($B$8="SI", 1-AVERAGE(VLOOKUP($E$5,$A$15:$B$22,2,FALSE),VLOOKUP($E$5+1,$A$15:$B$22,2,FALSE),VLOOKUP($E$5+2,$A$15:$B$22,2,FALSE)), ""),IF((2026-$E$4+1)=4, IF(AND($B$8="SI",$B$9="SI"), 1-AVERAGE(VLOOKUP($E$5,$A$15:$B$22,2,FALSE),VLOOKUP($E$5+1,$A$15:$B$22,2,FALSE),VLOOKUP($E$5+2,$A$15:$B$22,2,FALSE),VLOOKUP($E$5+3,$A$15:$B$22,2,FALSE)), ""),""))))) | D37: =IF(C37="","",IF((2026-$E$4+1)=1,"1 - capacità "&$E$5,IF((2026-$E$4+1)=2,"1 - media capacità "&$E$5&"-"&($E$5+1),IF((2026-$E$4+1)=3,"1 - media capacità "&$E$5&"-"&($E$5+2),IF((2026-$E$4+1)=4,"1 - media capacità "&$E$5&"-"&($E$5+3),"" ))))) | E37: =IF(AND(2026>=$E$4,(2026-$E$4+1)>=3,OR($B$8="SI"=FALSE,AND((2026-$E$4+1)=4,$B$9="SI"=FALSE))),"Se verifica miglioramento negativa: torna ordinario (e rideterminazione in assestamento)","") | G37: =Input!H20 -> 1130000 | H37: =IF(OR(C37="",G37=""),"",G37*C37) | I37: =IF(OR(D37="",H37=""),"",H37*D37) | J37: =IF(OR(E37="",I37=""),"",I37*E37)
A38: BP 2027-2029 | B38: 2027 | C38: =1-B27 -> 0.26190476 | D38: 1 - capacità 2024 | E38: =IF(AND(2027>=$E$4,(2027-$E$4+1)>=3,OR($B$8="SI"=FALSE,AND((2027-$E$4+1)=4,$B$9="SI"=FALSE))),"Se verifica miglioramento negativa: torna ordinario (e rideterminazione in assestamento)","") | F38: =E8 -> 0.25873521 | G38: =Input!H21 -> 1160000 | H38: =G38*C38 -> 303809.52 | I38: =G38*F38 -> 300132.85 | J38: =I38-H38 -> -3676.6748
A39: BP 2028-2030 | B39: 2028 | C39: =1-(B18+B19)/2 -> 0.19231602 | D39: 1 - media capacità 2024-2025 | E39: =IF(AND(2028>=$E$4,(2028-$E$4+1)>=3,OR($B$8="SI"=FALSE,AND((2028-$E$4+1)=4,$B$9="SI"=FALSE))),"Se verifica miglioramento negativa: torna ordinario (e rideterminazione in assestamento)","") | F39: =F8 -> 0.22384988 | G39: =Input!H22 -> 1190000 | H39: =G39*C39 -> 228856.06 | I39: =G39*F39 -> 266381.35 | J39: =I39-H39 -> 37525.292
A40: BP 2029-2031 | B40: 2029 | C40: =1-(B18+B19+B20)/3 -> 0.1707702 | D40: 1- media capacità 2024-2026 | F40: =G8 -> 0.18880995 | G40: 1210000 | H40: =G40*C40 -> 206631.94 | I40: =G40*F40 -> 228460.04 | J40: =I40-H40 -> 21828.092
A41: BP 2030-2032 | B41: 2030 | C41: =1-(B18+B19+B20+B21)/4 -> 0.15851243 | D41: 1- media capacità 2024-2027 | I41: =IF(OR(D41="",H41=""),"",H41*D41) | J41: =IF(OR(E41="",I41=""),"",I41*E41)
A42: BP 2031-2033 | B42: 2031 | E42: =IF(AND(2031>=$E$4,(2031-$E$4+1)>=3,OR($B$8="SI"=FALSE,AND((2031-$E$4+1)=4,$B$9="SI"=FALSE))),"Se verifica miglioramento negativa: torna ordinario (e rideterminazione in assestamento)","") | I42: =IF(OR(D42="",H42=""),"",H42*D42) | J42: =IF(OR(E42="",I42=""),"",I42*E42)
A43: BP 2032-2034 | B43: 2032 | E43: =IF(AND(2032>=$E$4,(2032-$E$4+1)>=3,OR($B$8="SI"=FALSE,AND((2032-$E$4+1)=4,$B$9="SI"=FALSE))),"Se verifica miglioramento negativa: torna ordinario (e rideterminazione in assestamento)","") | G43: =IFERROR(VLOOKUP(2032,Input!A15:H22,8,FALSE),"") | I43: =IF(OR(D43="",H43=""),"",H43*D43) | J43: =IF(OR(E43="",I43=""),"",I43*E43)
